Workbook

Sheet Summary
A1: LONDON BOROUGHS HEALTHY STREETS SCORECARD JULY 2019
A2: This document is published in conjuction with the London Boroughs Healthy Streets Scorecard Report available from coalition partners London Cycling Campaign, London Living Streets, CPRE London, RoadPeace, Sustrans, Campaign for Better Transport London
C4: 1. The Indicators
C5: The measure | D5: Trip-based mode share for active, efficient and sustainable modes (Walk, Cycle & Public Transport), by borough of residence, LTDS 3 year average, 2015/16-2017/18. | E5: % of adults who walk 5+ times a week | F5: % of adults who cycle 5+ times a week | G5: Average Annual Pedestrian and Cyclist Serious and Fatal Casualties (2015 to 2017)/1,000 daily walking and cycling stages (Stages per day , 3 year average 2014/15-2016/17) | H5: Number of cars per household (2018) | I5: Number of modal filters (Source: TfL CID. Data collected 2017-summer 2018)/km of road length (DfT - 2017) | J5: Proportion of borough managed roads (by length) with a 20mph limit (TfL) | K5: Length of roads covered by Controlled Parking Zones (CPZ) (Source: Appy Parking) | L5: Total length (kms) of protected cycle track (covers - Segregated (on- and off -carriageway), Stepped Lane/Track and Partially/light segregated (on- and off-carriageway)per km of road length (DfT - 2017)
C6: Status of Data | D6: Unchanged Data-Data OK 25Apr19 | E6: New Method-Data OK 25Apr19 | F6: New Method-Data OK 25Apr19 | G6: New Data-Data OK 12May19 | H6: New Data-Data 15Jun19 | I6: New Data-Data OK 02May19 | J6: New Data-Data OK 20Jun19 | K6: Unchanged Data-Data OK 25Apr19 | L6: New Data - TfL (March 2019)-Data OK 25Apr19 | Z6: Sub-Region
C7: Indicator | D7: 1. Modeshare: Sustainable Modes (PT+W+C) | E7: 2A. Active Travel-Walking | F7: 2B. Active Travel-Cycling | G7: 3. Casualties (Tot % P&C) | H7: 4. Cars per Household | I7: 5. Low Traffic Neighbourhoods (Modal filters) | J7: 6. 20mph | K7: 7. CPZ Coverage | L7: 8. Provision of Protected Cycle Track | AC7: SCORE OUT OF 10 | AG7: SORTED - SCORE OUT OF 10 | AK7: Central | AL7: =AVERAGE(AI8:AI14) -> 6.3775881
C8: Barking & Dagenham | D8: =VLOOKUP(C8,'1. Modeshare'!$B$4:$C$36,2,) -> 0.58 | E8: =(VLOOKUP(C8,'2. ActiveTravel'!$D$6:$E$38,2,))/100 -> 0.256849 | F8: =(VLOOKUP(C8,'2. ActiveTravel'!$B$6:$C$38,2,))/100 -> 0.015245 | G8: =VLOOKUP(C8,'3. Casualties'!$I$9:$J$42,2,) -> 0.065968581 | H8: =VLOOKUP(C8,'4. CarsPerHousehold'!$S$6:$T$39,2,) -> 0.81821624 | I8: =VLOOKUP(C8,'5.Low Traffic Neighbourhoods'!$F$7:$G$40,2,) -> 0.029383246 | J8: =(VLOOKUP(C8,'6. 20mph'!$I$4:$J$37,2,))/100 -> 0.27965998 | K8: =(VLOOKUP(C8,'7. Controlled Parking'!$L$5:$M$37,2,)) -> 0.21 | L8: =VLOOKUP(C8,'8. Protected Cycle Track'!$M$5:$N$38,2,) -> 0.075235361 | O8: Barking & Dagenham | P8: Outer | S8: Camden | T8: Inner | V8: Barking & Dagenham | W8: Outer | Z8: Camden | AA8: Central | AC8: Havering | AD8: =VLOOKUP(AC8,$Z$8:$AA$40,2,) -> East | AE8: 1.3959137 | AG8: Kensington & Chelsea | AH8: Central | AI8: 4.283153 | AK8: East | AL8: =AVERAGE(AI15:AI24) -> 4.2870905
C9: Barnet | D9: =VLOOKUP(C9,'1. Modeshare'!$B$4:$C$36,2,) -> 0.54 | E9: =(VLOOKUP(C9,'2. ActiveTravel'!$D$6:$E$38,2,))/100 -> 0.329488 | F9: =(VLOOKUP(C9,'2. ActiveTravel'!$B$6:$C$38,2,))/100 -> 0.008979 | G9: =VLOOKUP(C9,'3. Casualties'!$I$9:$J$42,2,) -> 0.047162295 | H9: =VLOOKUP(C9,'4. CarsPerHousehold'!$S$6:$T$39,2,) -> 0.93966593 | I9: =VLOOKUP(C9,'5.Low Traffic Neighbourhoods'!$F$7:$G$40,2,) -> 0.026218505 | J9: =(VLOOKUP(C9,'6. 20mph'!$I$4:$J$37,2,))/100 -> 0.04214067 | K9: =(VLOOKUP(C9,'7. Controlled Parking'!$L$5:$M$37,2,)) -> 0.28 | L9: =VLOOKUP(C9,'8. Protected Cycle Track'!$M$5:$N$38,2,) -> 0.0092853086 | O9: Barnet | P9: Outer | S9: City of London | T9: Inner | V9: Barnet | W9: Outer | Z9: City of London | AA9: Central | AC9: Redbridge | AD9: =VLOOKUP(AC9,$Z$8:$AA$40,2,) -> East | AE9: 1.924063 | AG9: Lambeth | AH9: Central | AI9: 5.7852777 | AK9: North | AL9: =AVERAGE(AI25:AI27) -> 3.7432014
C10: Bexley | D10: =VLOOKUP(C10,'1. Modeshare'!$B$4:$C$36,2,) -> 0.42 | E10: =(VLOOKUP(C10,'2. ActiveTravel'!$D$6:$E$38,2,))/100 -> 0.301308 | F10: =(VLOOKUP(C10,'2. ActiveTravel'!$B$6:$C$38,2,))/100 -> 0.016402 | G10: =VLOOKUP(C10,'3. Casualties'!$I$9:$J$42,2,) -> 0.047179735 | H10: =VLOOKUP(C10,'4. CarsPerHousehold'!$S$6:$T$39,2,) -> 1.080576 | I10: =VLOOKUP(C10,'5.Low Traffic Neighbourhoods'!$F$7:$G$40,2,) -> 0.0071422194 | J10: =(VLOOKUP(C10,'6. 20mph'!$I$4:$J$37,2,))/100 -> 0.091767217 | K10: =(VLOOKUP(C10,'7. Controlled Parking'!$L$5:$M$37,2,)) -> 0.19 | L10: =VLOOKUP(C10,'8. Protected Cycle Track'!$M$5:$N$38,2,) -> 0.034618607 | O10: Bexley | P10: Outer | S10: Greenwich | T10: Inner | V10: Bexley | W10: Outer | Z10: Greenwich | AA10: East | AC10: Bexley | AD10: =VLOOKUP(AC10,$Z$8:$AA$40,2,) -> East | AE10: 1.9596395 | AG10: Westminster | AH10: Central | AI10: 6.0312963 | AK10: South | AL10: =AVERAGE(AI28:AI33) -> 3.4794013
C11: Brent | D11: =VLOOKUP(C11,'1. Modeshare'!$B$4:$C$36,2,) -> 0.66 | E11: =(VLOOKUP(C11,'2. ActiveTravel'!$D$6:$E$38,2,))/100 -> 0.305517 | F11: =(VLOOKUP(C11,'2. ActiveTravel'!$B$6:$C$38,2,))/100 -> 0.009579 | G11: =VLOOKUP(C11,'3. Casualties'!$I$9:$J$42,2,) -> 0.07167477 | H11: =VLOOKUP(C11,'4. CarsPerHousehold'!$S$6:$T$39,2,) -> 0.76125001 | I11: =VLOOKUP(C11,'5.Low Traffic Neighbourhoods'!$F$7:$G$40,2,) -> 0.034881096 | J11: =(VLOOKUP(C11,'6. 20mph'!$I$4:$J$37,2,))/100 -> 0.43673058 | K11: =(VLOOKUP(C11,'7. Controlled Parking'!$L$5:$M$37,2,)) -> 0.62 | L11: =VLOOKUP(C11,'8. Protected Cycle Track'!$M$5:$N$38,2,) -> 0.048940874 | O11: Brent | P11: Outer | S11: Hackney | T11: Inner | V11: Brent | W11: Outer | Z11: Hackney | AA11: East | AC11: Bromley | AD11: =VLOOKUP(AC11,$Z$8:$AA$40,2,) -> South | AE11: 1.9826271 | AG11: Southwark | AH11: Central | AI11: 6.2863799 | AK11: West | AL11: =AVERAGE(AI34:AI40) -> 3.5778848
C12: Bromley | D12: =VLOOKUP(C12,'1. Modeshare'!$B$4:$C$36,2,) -> 0.46 | E12: =(VLOOKUP(C12,'2. ActiveTravel'!$D$6:$E$38,2,))/100 -> 0.402681 | F12: =(VLOOKUP(C12,'2. ActiveTravel'!$B$6:$C$38,2,))/100 -> 0.018969 | G12: =VLOOKUP(C12,'3. Casualties'!$I$9:$J$42,2,) -> 0.048203483 | H12: =VLOOKUP(C12,'4. CarsPerHousehold'!$S$6:$T$39,2,) -> 1.0587736 | I12: =VLOOKUP(C12,'5.Low Traffic Neighbourhoods'!$F$7:$G$40,2,) -> 0.014345936 | J12: =(VLOOKUP(C12,'6. 20mph'!$I$4:$J$37,2,))/100 -> 0.049022601 | K12: =(VLOOKUP(C12,'7. Controlled Parking'!$L$5:$M$37,2,)) -> 0.09 | L12: =VLOOKUP(C12,'8. Protected Cycle Track'!$M$5:$N$38,2,) -> 0.016139516 | O12: Bromley | P12: Outer | S12: Hammersmith & Fulham | T12: Inner | V12: Bromley | W12: Outer | Z12: Hammersmith & Fulham | AA12: West | AC12: Hillingdon | AD12: =VLOOKUP(AC12,$Z$8:$AA$40,2,) -> West | AE12: 2.045269 | AG12: Islington | AH12: Central | AI12: 6.4735702
C13: Camden | D13: =VLOOKUP(C13,'1. Modeshare'!$B$4:$C$36,2,) -> 0.83 | E13: =(VLOOKUP(C13,'2. ActiveTravel'!$D$6:$E$38,2,))/100 -> 0.419476 | F13: =(VLOOKUP(C13,'2. ActiveTravel'!$B$6:$C$38,2,))/100 -> 0.040997 | G13: =VLOOKUP(C13,'3. Casualties'!$I$9:$J$42,2,) -> 0.058348764 | H13: =VLOOKUP(C13,'4. CarsPerHousehold'!$S$6:$T$39,2,) -> 0.39597178 | I13: =VLOOKUP(C13,'5.Low Traffic Neighbourhoods'!$F$7:$G$40,2,) -> 0.11680176 | J13: =(VLOOKUP(C13,'6. 20mph'!$I$4:$J$37,2,))/100 -> 0.93061427 | K13: =(VLOOKUP(C13,'7. Controlled Parking'!$L$5:$M$37,2,)) -> 1 | L13: =VLOOKUP(C13,'8. Protected Cycle Track'!$M$5:$N$38,2,) -> 0.092674448 | O13: Camden | P13: Inner | S13: Islington | T13: Inner | V13: Croydon | W13: Outer | Z13: Islington | AA13: Central | AC13: Barnet | AD13: =VLOOKUP(AC13,$Z$8:$AA$40,2,) -> North | AE13: 2.396989 | AG13: Camden | AH13: Central | AI13: 7.1242878
C14: City of London | D14: =VLOOKUP(C14,'1. Modeshare'!$B$4:$C$36,2,) -> 0.93 | E14: =(VLOOKUP(C14,'2. ActiveTravel'!$D$6:$E$38,2,))/100 -> 0.547527 | F14: =(VLOOKUP(C14,'2. ActiveTravel'!$B$6:$C$38,2,))/100 -> 0.013947 | G14: =VLOOKUP(C14,'3. Casualties'!$I$9:$J$42,2,) -> 0.064789134 | H14: =VLOOKUP(C14,'4. CarsPerHousehold'!$S$6:$T$39,2,) -> 0.45514138 | I14: =VLOOKUP(C14,'5.Low Traffic Neighbourhoods'!$F$7:$G$40,2,) -> 0.32590983 | J14: =(VLOOKUP(C14,'6. 20mph'!$I$4:$J$37,2,))/100 -> 0.90630057 | K14: =(VLOOKUP(C14,'7. Controlled Parking'!$L$5:$M$37,2,)) -> 1 | L14: =VLOOKUP(C14,'8. Protected Cycle Track'!$M$5:$N$38,2,) -> 0.16207286 | O14: City of London | P14: Inner | S14: Kensington & Chelsea | T14: Inner | V14: Ealing | W14: Outer | Z14: Kensington & Chelsea | AA14: Central | AC14: Harrow | AD14: =VLOOKUP(AC14,$Z$8:$AA$40,2,) -> West | AE14: 2.4304359 | AG14: City of London | AH14: Central | AI14: 8.6591519
C15: Croydon | D15: =VLOOKUP(C15,'1. Modeshare'!$B$4:$C$36,2,) -> 0.51 | E15: =(VLOOKUP(C15,'2. ActiveTravel'!$D$6:$E$38,2,))/100 -> 0.319795 | F15: =(VLOOKUP(C15,'2. ActiveTravel'!$B$6:$C$38,2,))/100 -> 0.003321 | G15: =VLOOKUP(C15,'3. Casualties'!$I$9:$J$42,2,) -> 0.042444666 | H15: =VLOOKUP(C15,'4. CarsPerHousehold'!$S$6:$T$39,2,) -> 0.88832112 | I15: =VLOOKUP(C15,'5.Low Traffic Neighbourhoods'!$F$7:$G$40,2,) -> 0.033416446 | J15: =(VLOOKUP(C15,'6. 20mph'!$I$4:$J$37,2,))/100 -> 0.77450921 | K15: =(VLOOKUP(C15,'7. Controlled Parking'!$L$5:$M$37,2,)) -> 0.19 | L15: =VLOOKUP(C15,'8. Protected Cycle Track'!$M$5:$N$38,2,) -> 0.0059287199 | O15: Croydon | P15: Outer | S15: Lambeth | T15: Inner | V15: Enfield | W15: Outer | Z15: Lambeth | AA15: Central | AC15: Sutton | AD15: =VLOOKUP(AC15,$Z$8:$AA$40,2,) -> South | AE15: 2.5482733 | AG15: Havering | AH15: East | AI15: 1.3959137
C16: Ealing | D16: =VLOOKUP(C16,'1. Modeshare'!$B$4:$C$36,2,) -> 0.61 | E16: =(VLOOKUP(C16,'2. ActiveTravel'!$D$6:$E$38,2,))/100 -> 0.303117 | F16: =(VLOOKUP(C16,'2. ActiveTravel'!$B$6:$C$38,2,))/100 -> 0.030919 | G16: =VLOOKUP(C16,'3. Casualties'!$I$9:$J$42,2,) -> 0.060059919 | H16: =VLOOKUP(C16,'4. CarsPerHousehold'!$S$6:$T$39,2,) -> 0.88082607 | I16: =VLOOKUP(C16,'5.Low Traffic Neighbourhoods'!$F$7:$G$40,2,) -> 0.076561862 | J16: =(VLOOKUP(C16,'6. 20mph'!$I$4:$J$37,2,))/100 -> 0.76851059 | K16: =(VLOOKUP(C16,'7. Controlled Parking'!$L$5:$M$37,2,)) -> 0.39 | L16: =VLOOKUP(C16,'8. Protected Cycle Track'!$M$5:$N$38,2,) -> 0.042792192 | O16: Ealing | P16: Outer | S16: Lewisham | T16: Inner | V16: Haringey | W16: Outer | Z16: Lewisham | AA16: East | AC16: Barking & Dagenham | AD16: =VLOOKUP(AC16,$Z$8:$AA$40,2,) -> East | AE16: 2.9255919 | AG16: Redbridge | AH16: East | AI16: 1.924063
C17: Enfield | D17: =VLOOKUP(C17,'1. Modeshare'!$B$4:$C$36,2,) -> 0.53 | E17: =(VLOOKUP(C17,'2. ActiveTravel'!$D$6:$E$38,2,))/100 -> 0.290372 | F17: =(VLOOKUP(C17,'2. ActiveTravel'!$B$6:$C$38,2,))/100 -> 0.012272 | G17: =VLOOKUP(C17,'3. Casualties'!$I$9:$J$42,2,) -> 0.055749154 | H17: =VLOOKUP(C17,'4. CarsPerHousehold'!$S$6:$T$39,2,) -> 0.91899083 | I17: =VLOOKUP(C17,'5.Low Traffic Neighbourhoods'!$F$7:$G$40,2,) -> 0.024980094 | J17: =(VLOOKUP(C17,'6. 20mph'!$I$4:$J$37,2,))/100 -> 0.20993528 | K17: =(VLOOKUP(C17,'7. Controlled Parking'!$L$5:$M$37,2,)) -> 0.09 | L17: =VLOOKUP(C17,'8. Protected Cycle Track'!$M$5:$N$38,2,) -> 0.14355219 | O17: Enfield | P17: Outer | S17: Newham | T17: Inner | V17: Harrow | W17: Outer | Z17: Newham | AA17: East | AC17: Richmond upon Thames | AD17: =VLOOKUP(AC17,$Z$8:$AA$40,2,) -> West | AE17: 3.1324014 | AG17: Bexley | AH17: East | AI17: 1.9596395
C18: Greenwich | D18: =VLOOKUP(C18,'1. Modeshare'!$B$4:$C$36,2,) -> 0.59 | E18: =(VLOOKUP(C18,'2. ActiveTravel'!$D$6:$E$38,2,))/100 -> 0.362538 | F18: =(VLOOKUP(C18,'2. ActiveTravel'!$B$6:$C$38,2,))/100 -> 0.04381 | G18: =VLOOKUP(C18,'3. Casualties'!$I$9:$J$42,2,) -> 0.036703539 | H18: =VLOOKUP(C18,'4. CarsPerHousehold'!$S$6:$T$39,2,) -> 0.68959423 | I18: =VLOOKUP(C18,'5.Low Traffic Neighbourhoods'!$F$7:$G$40,2,) -> 0.057696516 | J18: =(VLOOKUP(C18,'6. 20mph'!$I$4:$J$37,2,))/100 -> 0.59392568 | K18: =(VLOOKUP(C18,'7. Controlled Parking'!$L$5:$M$37,2,)) -> 0.3 | L18: =VLOOKUP(C18,'8. Protected Cycle Track'!$M$5:$N$38,2,) -> 0.10058528 | O18: Greenwich | P18: Inner | S18: Southwark | T18: Inner | V18: Havering | W18: Outer | Z18: Southwark | AA18: Central | AC18: Enfield | AD18: =VLOOKUP(AC18,$Z$8:$AA$40,2,) -> North | AE18: 3.1960574 | AG18: Barking & Dagenham | AH18: East | AI18: 2.9255919
C19: Hackney | D19: =VLOOKUP(C19,'1. Modeshare'!$B$4:$C$36,2,) -> 0.85 | E19: =(VLOOKUP(C19,'2. ActiveTravel'!$D$6:$E$38,2,))/100 -> 0.415885 | F19: =(VLOOKUP(C19,'2. ActiveTravel'!$B$6:$C$38,2,))/100 -> 0.141636 | G19: =VLOOKUP(C19,'3. Casualties'!$I$9:$J$42,2,) -> 0.10243568 | H19: =VLOOKUP(C19,'4. CarsPerHousehold'!$S$6:$T$39,2,) -> 0.35992112 | I19: =VLOOKUP(C19,'5.Low Traffic Neighbourhoods'!$F$7:$G$40,2,) -> 0.30313966 | J19: =(VLOOKUP(C19,'6. 20mph'!$I$4:$J$37,2,))/100 -> 0.95733542 | K19: =(VLOOKUP(C19,'7. Controlled Parking'!$L$5:$M$37,2,)) -> 0.89 | L19: =VLOOKUP(C19,'8. Protected Cycle Track'!$M$5:$N$38,2,) -> 0.022506888 | O19: Hackney | P19: Inner | S19: Tower Hamlets | T19: Inner | V19: Hillingdon | W19: Outer | Z19: Tower Hamlets | AA19: East | AC19: Croydon | AD19: =VLOOKUP(AC19,$Z$8:$AA$40,2,) -> South | AE19: 3.2696676 | AG19: Lewisham | AH19: East | AI19: 4.568293
C20: Hammersmith & Fulham | D20: =VLOOKUP(C20,'1. Modeshare'!$B$4:$C$36,2,) -> 0.79 | E20: =(VLOOKUP(C20,'2. ActiveTravel'!$D$6:$E$38,2,))/100 -> 0.431807 | F20: =(VLOOKUP(C20,'2. ActiveTravel'!$B$6:$C$38,2,))/100 -> 0.091495 | G20: =VLOOKUP(C20,'3. Casualties'!$I$9:$J$42,2,) -> 0.060822675 | H20: =VLOOKUP(C20,'4. CarsPerHousehold'!$S$6:$T$39,2,) -> 0.51982964 | I20: =VLOOKUP(C20,'5.Low Traffic Neighbourhoods'!$F$7:$G$40,2,) -> 0.10869073 | J20: =(VLOOKUP(C20,'6. 20mph'!$I$4:$J$37,2,))/100 -> 0.81026952 | K20: =(VLOOKUP(C20,'7. Controlled Parking'!$L$5:$M$37,2,)) -> 0.96 | L20: =VLOOKUP(C20,'8. Protected Cycle Track'!$M$5:$N$38,2,) -> 0.034556963 | O20: Hammersmith & Fulham | P20: Inner | S20: Wandsworth | T20: Inner | V20: Hounslow | W20: Outer | Z20: Wandsworth | AA20: South | AC20: Hounslow | AD20: =VLOOKUP(AC20,$Z$8:$AA$40,2,) -> West | AE20: 3.3279739 | AG20: Greenwich | AH20: East | AI20: 4.8835043
C21: Haringey | D21: =VLOOKUP(C21,'1. Modeshare'!$B$4:$C$36,2,) -> 0.74 | E21: =(VLOOKUP(C21,'2. ActiveTravel'!$D$6:$E$38,2,))/100 -> 0.384878 | F21: =(VLOOKUP(C21,'2. ActiveTravel'!$B$6:$C$38,2,))/100 -> 0.061756 | G21: =VLOOKUP(C21,'3. Casualties'!$I$9:$J$42,2,) -> 0.067659582 | H21: =VLOOKUP(C21,'4. CarsPerHousehold'!$S$6:$T$39,2,) -> 0.53450537 | I21: =VLOOKUP(C21,'5.Low Traffic Neighbourhoods'!$F$7:$G$40,2,) -> 0.10654405 | J21: =(VLOOKUP(C21,'6. 20mph'!$I$4:$J$37,2,))/100 -> 0.90115458 | K21: =(VLOOKUP(C21,'7. Controlled Parking'!$L$5:$M$37,2,)) -> 0.72 | L21: =VLOOKUP(C21,'8. Protected Cycle Track'!$M$5:$N$38,2,) -> 0.034816753 | O21: Haringey | P21: Outer | S21: Westminster | T21: Inner | V21: Kingston upon Thames | W21: Outer | Z21: Westminster | AA21: Central | AC21: Kingston upon Thames | AD21: =VLOOKUP(AC21,$Z$8:$AA$40,2,) -> South | AE21: 3.6352814 | AG21: Newham | AH21: East | AI21: 5.2995649
C22: Harrow | D22: =VLOOKUP(C22,'1. Modeshare'!$B$4:$C$36,2,) -> 0.52 | E22: =(VLOOKUP(C22,'2. ActiveTravel'!$D$6:$E$38,2,))/100 -> 0.338033 | F22: =(VLOOKUP(C22,'2. ActiveTravel'!$B$6:$C$38,2,))/100 -> 0.013614 | G22: =VLOOKUP(C22,'3. Casualties'!$I$9:$J$42,2,) -> 0.05618968 | H22: =VLOOKUP(C22,'4. CarsPerHousehold'!$S$6:$T$39,2,) -> 1.0831933 | I22: =VLOOKUP(C22,'5.Low Traffic Neighbourhoods'!$F$7:$G$40,2,) -> 0.025310048 | J22: =(VLOOKUP(C22,'6. 20mph'!$I$4:$J$37,2,))/100 -> 0.23345868 | K22: =(VLOOKUP(C22,'7. Controlled Parking'!$L$5:$M$37,2,)) -> 0.26 | L22: =VLOOKUP(C22,'8. Protected Cycle Track'!$M$5:$N$38,2,) -> 0.032981316 | O22: Harrow | P22: Outer | V22: Merton | W22: Outer | Z22: Barking & Dagenham | AA22: East | AC22: Brent | AD22: =VLOOKUP(AC22,$Z$8:$AA$40,2,) -> West | AE22: 3.7443826 | AG22: Waltham Forest | AH22: East | AI22: 5.425632
C23: Havering | D23: =VLOOKUP(C23,'1. Modeshare'!$B$4:$C$36,2,) -> 0.43 | E23: =(VLOOKUP(C23,'2. ActiveTravel'!$D$6:$E$38,2,))/100 -> 0.286891 | F23: =(VLOOKUP(C23,'2. ActiveTravel'!$B$6:$C$38,2,))/100 -> 0.021509 | G23: =VLOOKUP(C23,'3. Casualties'!$I$9:$J$42,2,) -> 0.06870743 | H23: =VLOOKUP(C23,'4. CarsPerHousehold'!$S$6:$T$39,2,) -> 1.1079632 | I23: =VLOOKUP(C23,'5.Low Traffic Neighbourhoods'!$F$7:$G$40,2,) -> 0.024217106 | J23: =(VLOOKUP(C23,'6. 20mph'!$I$4:$J$37,2,))/100 -> 0.090809015 | K23: =(VLOOKUP(C23,'7. Controlled Parking'!$L$5:$M$37,2,)) -> 0.15 | L23: =VLOOKUP(C23,'8. Protected Cycle Track'!$M$5:$N$38,2,) -> 0.016607342 | O23: Havering | P23: Outer | V23: Redbridge | W23: Outer | Z23: Barnet | AA23: North | AC23: Ealing | AD23: =VLOOKUP(AC23,$Z$8:$AA$40,2,) -> West | AE23: 4.0052566 | AG23: Hackney | AH23: East | AI23: 6.8824621
C24: Hillingdon | D24: =VLOOKUP(C24,'1. Modeshare'!$B$4:$C$36,2,) -> 0.41 | E24: =(VLOOKUP(C24,'2. ActiveTravel'!$D$6:$E$38,2,))/100 -> 0.350754 | F24: =(VLOOKUP(C24,'2. ActiveTravel'!$B$6:$C$38,2,))/100 -> 0.02605 | G24: =VLOOKUP(C24,'3. Casualties'!$I$9:$J$42,2,) -> 0.051302142 | H24: =VLOOKUP(C24,'4. CarsPerHousehold'!$S$6:$T$39,2,) -> 1.2697302 | I24: =VLOOKUP(C24,'5.Low Traffic Neighbourhoods'!$F$7:$G$40,2,) -> 0.048835859 | J24: =(VLOOKUP(C24,'6. 20mph'!$I$4:$J$37,2,))/100 -> 0.074376401 | K24: =(VLOOKUP(C24,'7. Controlled Parking'!$L$5:$M$37,2,)) -> 0.14 | L24: =VLOOKUP(C24,'8. Protected Cycle Track'!$M$5:$N$38,2,) -> 0.062322655 | O24: Hillingdon | P24: Outer | V24: Richmond upon Thames | W24: Outer | Z24: Bexley | AA24: East | AC24: Merton | AD24: =VLOOKUP(AC24,$Z$8:$AA$40,2,) -> South | AE24: 4.2671208 | AG24: Tower Hamlets | AH24: East | AI24: 7.6062401
C25: Hounslow | D25: =VLOOKUP(C25,'1. Modeshare'!$B$4:$C$36,2,) -> 0.56 | E25: =(VLOOKUP(C25,'2. ActiveTravel'!$D$6:$E$38,2,))/100 -> 0.281408 | F25: =(VLOOKUP(C25,'2. ActiveTravel'!$B$6:$C$38,2,))/100 -> 0.030288 | G25: =VLOOKUP(C25,'3. Casualties'!$I$9:$J$42,2,) -> 0.068124043 | H25: =VLOOKUP(C25,'4. CarsPerHousehold'!$S$6:$T$39,2,) -> 0.91712008 | I25: =VLOOKUP(C25,'5.Low Traffic Neighbourhoods'!$F$7:$G$40,2,) -> 0.058077824 | J25: =(VLOOKUP(C25,'6. 20mph'!$I$4:$J$37,2,))/100 -> 0.43606479 | K25: =(VLOOKUP(C25,'7. Controlled Parking'!$L$5:$M$37,2,)) -> 0.28 | L25: =VLOOKUP(C25,'8. Protected Cycle Track'!$M$5:$N$38,2,) -> 0.086718839 | O25: Hounslow | P25: Outer | V25: Sutton | W25: Outer | Z25: Brent | AA25: West | AC25: Kensington & Chelsea | AD25: =VLOOKUP(AC25,$Z$8:$AA$40,2,) -> Central | AE25: 4.283153 | AG25: Barnet | AH25: North | AI25: 2.396989
C26: Islington | D26: =VLOOKUP(C26,'1. Modeshare'!$B$4:$C$36,2,) -> 0.83 | E26: =(VLOOKUP(C26,'2. ActiveTravel'!$D$6:$E$38,2,))/100 -> 0.401157 | F26: =(VLOOKUP(C26,'2. ActiveTravel'!$B$6:$C$38,2,))/100 -> 0.051615 | G26: =VLOOKUP(C26,'3. Casualties'!$I$9:$J$42,2,) -> 0.076036479 | H26: =VLOOKUP(C26,'4. CarsPerHousehold'!$S$6:$T$39,2,) -> 0.345351 | I26: =VLOOKUP(C26,'5.Low Traffic Neighbourhoods'!$F$7:$G$40,2,) -> 0.1638862 | J26: =(VLOOKUP(C26,'6. 20mph'!$I$4:$J$37,2,))/100 -> 0.96869679 | K26: =(VLOOKUP(C26,'7. Controlled Parking'!$L$5:$M$37,2,)) -> 0.94 | L26: =VLOOKUP(C26,'8. Protected Cycle Track'!$M$5:$N$38,2,) -> 0.024815152 | O26: Islington | P26: Inner | V26: Waltham Forest | W26: Outer | Z26: Bromley | AA26: South | AC26: Lewisham | AD26: =VLOOKUP(AC26,$Z$8:$AA$40,2,) -> East | AE26: 4.568293 | AG26: Enfield | AH26: North | AI26: 3.1960574
C27: Kensington & Chelsea | D27: =VLOOKUP(C27,'1. Modeshare'!$B$4:$C$36,2,) -> 0.75 | E27: =(VLOOKUP(C27,'2. ActiveTravel'!$D$6:$E$38,2,))/100 -> 0.409922 | F27: =(VLOOKUP(C27,'2. ActiveTravel'!$B$6:$C$38,2,))/100 -> 0.052923 | G27: =VLOOKUP(C27,'3. Casualties'!$I$9:$J$42,2,) -> 0.072385956 | H27: =VLOOKUP(C27,'4. CarsPerHousehold'!$S$6:$T$39,2,) -> 0.51582376 | I27: =VLOOKUP(C27,'5.Low Traffic Neighbourhoods'!$F$7:$G$40,2,) -> 0.0097622883 | J27: =(VLOOKUP(C27,'6. 20mph'!$I$4:$J$37,2,))/100 -> 0.0094252768 | K27: =(VLOOKUP(C27,'7. Controlled Parking'!$L$5:$M$37,2,)) -> 1 | L27: =VLOOKUP(C27,'8. Protected Cycle Track'!$M$5:$N$38,2,) -> 0.013596937 | O27: Kensington & Chelsea | P27: Inner | Z27: Croydon | AA27: South | AC27: Greenwich | AD27: =VLOOKUP(AC27,$Z$8:$AA$40,2,) -> East | AE27: 4.8835043 | AG27: Haringey | AH27: North | AI27: 5.636558
C28: Kingston upon Thames | D28: =VLOOKUP(C28,'1. Modeshare'!$B$4:$C$36,2,) -> 0.54 | E28: =(VLOOKUP(C28,'2. ActiveTravel'!$D$6:$E$38,2,))/100 -> 0.369903 | F28: =(VLOOKUP(C28,'2. ActiveTravel'!$B$6:$C$38,2,))/100 -> 0.057374 | G28: =VLOOKUP(C28,'3. Casualties'!$I$9:$J$42,2,) -> 0.048106339 | H28: =VLOOKUP(C28,'4. CarsPerHousehold'!$S$6:$T$39,2,) -> 0.94272573 | I28: =VLOOKUP(C28,'5.Low Traffic Neighbourhoods'!$F$7:$G$40,2,) -> 0.0928155 | J28: =(VLOOKUP(C28,'6. 20mph'!$I$4:$J$37,2,))/100 -> 0.43410447 | K28: =(VLOOKUP(C28,'7. Controlled Parking'!$L$5:$M$37,2,)) -> 0.21 | L28: =VLOOKUP(C28,'8. Protected Cycle Track'!$M$5:$N$38,2,) -> 0.044142895 | O28: Kingston upon Thames | P28: Outer | Z28: Ealing | AA28: West | AC28: Wandsworth | AD28: =VLOOKUP(AC28,$Z$8:$AA$40,2,) -> South | AE28: 5.1734375 | AG28: Bromley | AH28: South | AI28: 1.9826271
C29: Lambeth | D29: =VLOOKUP(C29,'1. Modeshare'!$B$4:$C$36,2,) -> 0.76 | E29: =(VLOOKUP(C29,'2. ActiveTravel'!$D$6:$E$38,2,))/100 -> 0.430814 | F29: =(VLOOKUP(C29,'2. ActiveTravel'!$B$6:$C$38,2,))/100 -> 0.067759 | G29: =VLOOKUP(C29,'3. Casualties'!$I$9:$J$42,2,) -> 0.067198133 | H29: =VLOOKUP(C29,'4. CarsPerHousehold'!$S$6:$T$39,2,) -> 0.4416701 | I29: =VLOOKUP(C29,'5.Low Traffic Neighbourhoods'!$F$7:$G$40,2,) -> 0.099193401 | J29: =(VLOOKUP(C29,'6. 20mph'!$I$4:$J$37,2,))/100 -> 0.89508137 | K29: =(VLOOKUP(C29,'7. Controlled Parking'!$L$5:$M$37,2,)) -> 0.63 | L29: =VLOOKUP(C29,'8. Protected Cycle Track'!$M$5:$N$38,2,) -> 0.034916718 | O29: Lambeth | P29: Inner | Z29: Enfield | AA29: North | AC29: Newham | AD29: =VLOOKUP(AC29,$Z$8:$AA$40,2,) -> East | AE29: 5.2995649 | AG29: Sutton | AH29: South | AI29: 2.5482733
C30: Lewisham | D30: =VLOOKUP(C30,'1. Modeshare'!$B$4:$C$36,2,) -> 0.66 | E30: =(VLOOKUP(C30,'2. ActiveTravel'!$D$6:$E$38,2,))/100 -> 0.369268 | F30: =(VLOOKUP(C30,'2. ActiveTravel'!$B$6:$C$38,2,))/100 -> 0.045283 | G30: =VLOOKUP(C30,'3. Casualties'!$I$9:$J$42,2,) -> 0.052664247 | H30: =VLOOKUP(C30,'4. CarsPerHousehold'!$S$6:$T$39,2,) -> 0.58747713 | I30: =VLOOKUP(C30,'5.Low Traffic Neighbourhoods'!$F$7:$G$40,2,) -> 0.056897759 | J30: =(VLOOKUP(C30,'6. 20mph'!$I$4:$J$37,2,))/100 -> 0.93218866 | K30: =(VLOOKUP(C30,'7. Controlled Parking'!$L$5:$M$37,2,)) -> 0.23 | L30: =VLOOKUP(C30,'8. Protected Cycle Track'!$M$5:$N$38,2,) -> 0.015558813 | O30: Lewisham | P30: Inner | Z30: Haringey | AA30: North | AC30: Waltham Forest | AD30: =VLOOKUP(AC30,$Z$8:$AA$40,2,) -> East | AE30: 5.425632 | AG30: Croydon | AH30: South | AI30: 3.2696676
C31: Merton | D31: =VLOOKUP(C31,'1. Modeshare'!$B$4:$C$36,2,) -> 0.56 | E31: =(VLOOKUP(C31,'2. ActiveTravel'!$D$6:$E$38,2,))/100 -> 0.377662 | F31: =(VLOOKUP(C31,'2. ActiveTravel'!$B$6:$C$38,2,))/100 -> 0.057203 | G31: =VLOOKUP(C31,'3. Casualties'!$I$9:$J$42,2,) -> 0.042027571 | H31: =VLOOKUP(C31,'4. CarsPerHousehold'!$S$6:$T$39,2,) -> 0.85395495 | I31: =VLOOKUP(C31,'5.Low Traffic Neighbourhoods'!$F$7:$G$40,2,) -> 0.13285506 | J31: =(VLOOKUP(C31,'6. 20mph'!$I$4:$J$37,2,))/100 -> 0.44835735 | K31: =(VLOOKUP(C31,'7. Controlled Parking'!$L$5:$M$37,2,)) -> 0.37 | L31: =VLOOKUP(C31,'8. Protected Cycle Track'!$M$5:$N$38,2,) -> 0.036254732 | O31: Merton | P31: Outer | Z31: Harrow | AA31: West | AC31: Haringey | AD31: =VLOOKUP(AC31,$Z$8:$AA$40,2,) -> North | AE31: 5.636558 | AG31: Kingston upon Thames | AH31: South | AI31: 3.6352814
C32: Newham | D32: =VLOOKUP(C32,'1. Modeshare'!$B$4:$C$36,2,) -> 0.71 | E32: =(VLOOKUP(C32,'2. ActiveTravel'!$D$6:$E$38,2,))/100 -> 0.339216 | F32: =(VLOOKUP(C32,'2. ActiveTravel'!$B$6:$C$38,2,))/100 -> 0.032736 | G32: =VLOOKUP(C32,'3. Casualties'!$I$9:$J$42,2,) -> 0.050796457 | H32: =VLOOKUP(C32,'4. CarsPerHousehold'!$S$6:$T$39,2,) -> 0.5889461 | I32: =VLOOKUP(C32,'5.Low Traffic Neighbourhoods'!$F$7:$G$40,2,) -> 0.039830369 | J32: =(VLOOKUP(C32,'6. 20mph'!$I$4:$J$37,2,))/100 -> 0.40769035 | K32: =(VLOOKUP(C32,'7. Controlled Parking'!$L$5:$M$37,2,)) -> 0.9 | L32: =VLOOKUP(C32,'8. Protected Cycle Track'!$M$5:$N$38,2,) -> 0.081628489 | O32: Newham | P32: Inner | Z32: Havering | AA32: East | AC32: Lambeth | AD32: =VLOOKUP(AC32,$Z$8:$AA$40,2,) -> Central | AE32: 5.7852777 | AG32: Merton | AH32: South | AI32: 4.2671208
C33: Redbridge | D33: =VLOOKUP(C33,'1. Modeshare'!$B$4:$C$36,2,) -> 0.47 | E33: =(VLOOKUP(C33,'2. ActiveTravel'!$D$6:$E$38,2,))/100 -> 0.343084 | F33: =(VLOOKUP(C33,'2. ActiveTravel'!$B$6:$C$38,2,))/100 -> 0.011334 | G33: =VLOOKUP(C33,'3. Casualties'!$I$9:$J$42,2,) -> 0.061937972 | H33: =VLOOKUP(C33,'4. CarsPerHousehold'!$S$6:$T$39,2,) -> 0.94977881 | I33: =VLOOKUP(C33,'5.Low Traffic Neighbourhoods'!$F$7:$G$40,2,) -> 0.013132715 | J33: =(VLOOKUP(C33,'6. 20mph'!$I$4:$J$37,2,))/100 -> 0.15311222 | K33: =(VLOOKUP(C33,'7. Controlled Parking'!$L$5:$M$37,2,)) -> 0.12 | L33: =VLOOKUP(C33,'8. Protected Cycle Track'!$M$5:$N$38,2,) -> 0.018855899 | O33: Redbridge | P33: Outer | Z33: Hillingdon | AA33: West | AC33: Westminster | AD33: =VLOOKUP(AC33,$Z$8:$AA$40,2,) -> Central | AE33: 6.0312963 | AG33: Wandsworth | AH33: South | AI33: 5.1734375
C34: Richmond upon Thames | D34: =VLOOKUP(C34,'1. Modeshare'!$B$4:$C$36,2,) -> 0.59 | E34: =(VLOOKUP(C34,'2. ActiveTravel'!$D$6:$E$38,2,))/100 -> 0.40065 | F34: =(VLOOKUP(C34,'2. ActiveTravel'!$B$6:$C$38,2,))/100 -> 0.057056 | G34: =VLOOKUP(C34,'3. Casualties'!$I$9:$J$42,2,) -> 0.056945292 | H34: =VLOOKUP(C34,'4. CarsPerHousehold'!$S$6:$T$39,2,) -> 0.907553 | I34: =VLOOKUP(C34,'5.Low Traffic Neighbourhoods'!$F$7:$G$40,2,) -> 0.065060241 | J34: =(VLOOKUP(C34,'6. 20mph'!$I$4:$J$37,2,))/100 -> 0.059790542 | K34: =(VLOOKUP(C34,'7. Controlled Parking'!$L$5:$M$37,2,)) -> 0.35 | L34: =VLOOKUP(C34,'8. Protected Cycle Track'!$M$5:$N$38,2,) -> 0.023790017 | O34: Richmond upon Thames | P34: Outer | Z34: Hounslow | AA34: West | AC34: Southwark | AD34: =VLOOKUP(AC34,$Z$8:$AA$40,2,) -> Central | AE34: 6.2863799 | AG34: Hillingdon | AH34: West | AI34: 2.045269
C35: Southwark | D35: =VLOOKUP(C35,'1. Modeshare'!$B$4:$C$36,2,) -> 0.76 | E35: =(VLOOKUP(C35,'2. ActiveTravel'!$D$6:$E$38,2,))/100 -> 0.429024 | F35: =(VLOOKUP(C35,'2. ActiveTravel'!$B$6:$C$38,2,))/100 -> 0.081017 | G35: =VLOOKUP(C35,'3. Casualties'!$I$9:$J$42,2,) -> 0.057450871 | H35: =VLOOKUP(C35,'4. CarsPerHousehold'!$S$6:$T$39,2,) -> 0.42747212 | I35: =VLOOKUP(C35,'5.Low Traffic Neighbourhoods'!$F$7:$G$40,2,) -> 0.13219779 | J35: =(VLOOKUP(C35,'6. 20mph'!$I$4:$J$37,2,))/100 -> 0.95556298 | K35: =(VLOOKUP(C35,'7. Controlled Parking'!$L$5:$M$37,2,)) -> 0.53 | L35: =VLOOKUP(C35,'8. Protected Cycle Track'!$M$5:$N$38,2,) -> 0.056103918 | O35: Southwark | P35: Inner | Z35: Kingston upon Thames | AA35: South | AC35: Hammersmith & Fulham | AD35: =VLOOKUP(AC35,$Z$8:$AA$40,2,) -> West | AE35: 6.3594739 | AG35: Harrow | AH35: West | AI35: 2.4304359
C36: Sutton | D36: =VLOOKUP(C36,'1. Modeshare'!$B$4:$C$36,2,) -> 0.45 | E36: =(VLOOKUP(C36,'2. ActiveTravel'!$D$6:$E$38,2,))/100 -> 0.3512 | F36: =(VLOOKUP(C36,'2. ActiveTravel'!$B$6:$C$38,2,))/100 -> 0.017475 | G36: =VLOOKUP(C36,'3. Casualties'!$I$9:$J$42,2,) -> 0.049768618 | H36: =VLOOKUP(C36,'4. CarsPerHousehold'!$S$6:$T$39,2,) -> 1.0256311 | I36: =VLOOKUP(C36,'5.Low Traffic Neighbourhoods'!$F$7:$G$40,2,) -> 0.057844929 | J36: =(VLOOKUP(C36,'6. 20mph'!$I$4:$J$37,2,))/100 -> 0.20611017 | K36: =(VLOOKUP(C36,'7. Controlled Parking'!$L$5:$M$37,2,)) -> 0.09 | L36: =VLOOKUP(C36,'8. Protected Cycle Track'!$M$5:$N$38,2,) -> 0.05571295 | O36: Sutton | P36: Outer | Z36: Merton | AA36: South | AC36: Islington | AD36: =VLOOKUP(AC36,$Z$8:$AA$40,2,) -> Central | AE36: 6.4735702 | AG36: Richmond upon Thames | AH36: West | AI36: 3.1324014
C37: Tower Hamlets | D37: =VLOOKUP(C37,'1. Modeshare'!$B$4:$C$36,2,) -> 0.8 | E37: =(VLOOKUP(C37,'2. ActiveTravel'!$D$6:$E$38,2,))/100 -> 0.392931 | F37: =(VLOOKUP(C37,'2. ActiveTravel'!$B$6:$C$38,2,))/100 -> 0.074693 | G37: =VLOOKUP(C37,'3. Casualties'!$I$9:$J$42,2,) -> 0.077813824 | H37: =VLOOKUP(C37,'4. CarsPerHousehold'!$S$6:$T$39,2,) -> 0.35656359 | I37: =VLOOKUP(C37,'5.Low Traffic Neighbourhoods'!$F$7:$G$40,2,) -> 0.24199488 | J37: =(VLOOKUP(C37,'6. 20mph'!$I$4:$J$37,2,))/100 -> 0.92038662 | K37: =(VLOOKUP(C37,'7. Controlled Parking'!$L$5:$M$37,2,)) -> 0.98 | L37: =VLOOKUP(C37,'8. Protected Cycle Track'!$M$5:$N$38,2,) -> 0.13334992 | O37: Tower Hamlets | P37: Inner | Z37: Redbridge | AA37: East | AC37: Hackney | AD37: =VLOOKUP(AC37,$Z$8:$AA$40,2,) -> East | AE37: 6.8824621 | AG37: Hounslow | AH37: West | AI37: 3.3279739
C38: Waltham Forest | D38: =VLOOKUP(C38,'1. Modeshare'!$B$4:$C$36,2,) -> 0.65 | E38: =(VLOOKUP(C38,'2. ActiveTravel'!$D$6:$E$38,2,))/100 -> 0.432405 | F38: =(VLOOKUP(C38,'2. ActiveTravel'!$B$6:$C$38,2,))/100 -> 0.062266 | G38: =VLOOKUP(C38,'3. Casualties'!$I$9:$J$42,2,) -> 0.056254522 | H38: =VLOOKUP(C38,'4. CarsPerHousehold'!$S$6:$T$39,2,) -> 0.73853063 | I38: =VLOOKUP(C38,'5.Low Traffic Neighbourhoods'!$F$7:$G$40,2,) -> 0.1292354 | J38: =(VLOOKUP(C38,'6. 20mph'!$I$4:$J$37,2,))/100 -> 0.70128894 | K38: =(VLOOKUP(C38,'7. Controlled Parking'!$L$5:$M$37,2,)) -> 0.49 | L38: =VLOOKUP(C38,'8. Protected Cycle Track'!$M$5:$N$38,2,) -> 0.090694897 | O38: Waltham Forest | P38: Outer | Z38: Richmond upon Thames | AA38: West | AC38: Camden | AD38: =VLOOKUP(AC38,$Z$8:$AA$40,2,) -> Central | AE38: 7.1242878 | AG38: Brent | AH38: West | AI38: 3.7443826
... C40: Westminster | D40: =VLOOKUP(C40,'1. Modeshare'!$B$4:$C$36,2,) -> 0.81 | E40: =(VLOOKUP(C40,'2. ActiveTravel'!$D$6:$E$38,2,))/100 -> 0.422234 | F40: =(VLOOKUP(C40,'2. ActiveTravel'!$B$6:$C$38,2,))/100 -> 0.058936 | G40: =VLOOKUP(C40,'3. Casualties'!$I$9:$J$42,2,) -> 0.063998995 | H40: =VLOOKUP(C40,'4. CarsPerHousehold'!$S$6:$T$39,2,) -> 0.4183471 | I40: =VLOOKUP(C40,'5.Low Traffic Neighbourhoods'!$F$7:$G$40,2,) -> 0.082428096 | J40: =(VLOOKUP(C40,'6. 20mph'!$I$4:$J$37,2,))/100 -> 0.10733419 | K40: =(VLOOKUP(C40,'7. Controlled Parking'!$L$5:$M$37,2,)) -> 0.97 | L40: =VLOOKUP(C40,'8. Protected Cycle Track'!$M$5:$N$38,2,) -> 0.12447708 | O40: Westminster | P40: Inner | Z40: Waltham Forest | AA40: East | AC40: City of London | AD40: =VLOOKUP(AC40,$Z$8:$AA$40,2,) -> Central | AE40: 8.6591519 | AG40: Hammersmith & Fulham | AH40: West | AI40: 6.3594739
C41: Greater London Average | D41: =AVERAGE(D8:D40) -> 0.63575758 | E41: =AVERAGE(E8:E40) -> 0.36982797 | F41: =AVERAGE(F8:F40) -> 0.041353 | G41: =VLOOKUP(C41,'3. Casualties'!$I$9:$J$42,2,) -> 0.059860928 | H41: =VLOOKUP(C41,'4. CarsPerHousehold'!$S$6:$T$39,2,) -> 0.73841217 | I41: =VLOOKUP(C41,'5.Low Traffic Neighbourhoods'!$F$7:$G$40,2,) -> 0.064950728 | J41: =(VLOOKUP(C41,'6. 20mph'!$I$4:$J$37,2,))/100 -> 0.42847855 | K41: 0.39242 | L41: =VLOOKUP(C41,'8. Protected Cycle Track'!$M$5:$N$38,2,) -> 0.049470549
C43: Higher Score is: | D43: BETTER | E43: BETTER | F43: BETTER | G43: WORSE | H43: WORSE | I43: BETTER | J43: BETTER | K43: BETTER | L43: BETTER
...

Sheet 1. Modeshare
B2: 1. OUTPUT TO SUMMARY | L2: 2. OUTPUT TO CHART
B3: MODESHARE | C3: Total - Sustainable Modes | D3: Public transport | E3: Cycle | F3: Walk | G3: Cycle + walk | L3: Borough | M3: Public transport | N3: Walk | O3: Cycle | P3: Total - Sustainable Modes
B4: Barking & Dagenham | C4: =D4+G4 -> 0.58 | D4: 0.32 | E4: 0.01 | F4: 0.25 | G4: =E4+F4 -> 0.26 | L4: Hillingdon | M4: 0.2 | N4: 0.2 | O4: 0.01 | P4: =SUM(M4:O4) -> 0.41
B5: Barnet | C5: =D5+G5 -> 0.54 | D5: 0.26 | E5: 0.01 | F5: 0.27 | G5: =E5+F5 -> 0.28 | L5: Bexley | M5: 0.2 | N5: 0.21 | O5: 0.01 | P5: =SUM(M5:O5) -> 0.42
B6: Bexley | C6: =D6+G6 -> 0.42 | D6: 0.2 | E6: 0.01 | F6: 0.21 | G6: =E6+F6 -> 0.22 | L6: Havering | M6: 0.23 | N6: 0.19 | O6: 0.01 | P6: =SUM(M6:O6) -> 0.43
B7: Brent | C7: =D7+G7 -> 0.66 | D7: 0.37 | E7: 0.02 | F7: 0.27 | G7: =E7+F7 -> 0.29 | L7: Sutton | M7: 0.2 | N7: 0.24 | O7: 0.01 | P7: =SUM(M7:O7) -> 0.45
B8: Bromley | C8: =D8+G8 -> 0.46 | D8: 0.22 | E8: 0.01 | F8: 0.23 | G8: =E8+F8 -> 0.24 | L8: Bromley | M8: 0.22 | N8: 0.23 | O8: 0.01 | P8: =SUM(M8:O8) -> 0.46
B9: Camden | C9: =D9+G9 -> 0.83 | D9: 0.33 | E9: 0.03 | F9: 0.47 | G9: =E9+F9 -> 0.5 | L9: Redbridge | M9: 0.25 | N9: 0.21 | O9: 0.01 | P9: =SUM(M9:O9) -> 0.47
B10: City of London | C10: =D10+G10 -> 0.93 | D10: 0.39 | E10: 0.01 | F10: 0.53 | G10: =E10+F10 -> 0.54 | L10: Croydon | M10: 0.27 | N10: 0.23 | O10: 0.01 | P10: =SUM(M10:O10) -> 0.51
B11: Croydon | C11: =D11+G11 -> 0.51 | D11: 0.27 | E11: 0.01 | F11: 0.23 | G11: =E11+F11 -> 0.24 | L11: Harrow | M11: 0.23 | N11: 0.28 | O11: 0.01 | P11: =SUM(M11:O11) -> 0.52
B12: Ealing | C12: =D12+G12 -> 0.61 | D12: 0.31 | E12: 0.02 | F12: 0.28 | G12: =E12+F12 -> 0.3 | L12: Enfield | M12: 0.24 | N12: 0.27 | O12: 0.02 | P12: =SUM(M12:O12) -> 0.53
B13: Enfield | C13: =D13+G13 -> 0.53 | D13: 0.24 | E13: 0.02 | F13: 0.27 | G13: =E13+F13 -> 0.29 | L13: Barnet | M13: 0.26 | N13: 0.27 | O13: 0.01 | P13: =SUM(M13:O13) -> 0.54
B14: Greenwich | C14: =D14+G14 -> 0.59 | D14: 0.3 | E14: 0.02 | F14: 0.27 | G14: =E14+F14 -> 0.29 | L14: Kingston upon Thames | M14: 0.21 | N14: 0.31 | O14: 0.02 | P14: =SUM(M14:O14) -> 0.54
B15: Hackney | C15: =D15+G15 -> 0.85 | D15: 0.35 | E15: 0.08 | F15: 0.42 | G15: =E15+F15 -> 0.5 | L15: Merton | M15: 0.27 | N15: 0.27 | O15: 0.02 | P15: =SUM(M15:O15) -> 0.56
... B36: Westminster | C36: =D36+G36 -> 0.81 | D36: 0.37 | E36: 0.03 | F36: 0.41 | G36: =E36+F36 -> 0.44 | L36: City of London | M36: 0.39 | N36: 0.53 | O36: 0.01 | P36: =SUM(M36:O36) -> 0.93
B37: Greater London Average | C37: =AVERAGE(C4:C36) -> 0.63575758
B38: SIMPLE AVERAGE
B40: Figure 3.10 | D40: Trip-based mode share for active, efficient and sustainable modes, by borough of residence, LTDS 3 year average, 2015/16-2017/18.
B41: Travel in London Report 11 data, https://tfl.gov.uk/corporate/publications-and-reports/travel-in-london-reports
B42: Released in Dec 2018

Sheet 2. ActiveTravel
B2: 1. OUTPUT TO SUMMARY
J3: 2. OUTPUT TO CHART
B4: OUTPUT-2B. Active Travel-Cycling | D4: OUTPUT-2A. Active Travel-Walking
B5: Borough | C5: Cycle 5+ times a week | E5: Walk 5+ times a week | L5: 1. Walk
B6: Barking & Dagenham | C6: 1.5245 | D6: Barking & Dagenham | E6: 25.6849
B7: Barnet | C7: 0.8979 | D7: Barnet | E7: 32.9488
B8: Bexley | C8: 1.6402 | D8: Bexley | E8: 30.1308 | L8: Borough | M8: Walk 5+ times a week
B9: Brent | C9: 0.9579 | D9: Brent | E9: 30.5517 | L9: B&D | M9: 0.256849 | AD9: 2. Cycle
B10: Bromley | C10: 1.8969 | D10: Bromley | E10: 40.2681 | L10: Hounslow | M10: 0.281408
B11: Camden | C11: 4.0997 | D11: Camden | E11: 41.9476 | L11: Havering | M11: 0.286891
B12: City of London | C12: 1.3947 | D12: City of London | E12: 54.7527 | L12: Enfield | M12: 0.290372 | AD12: Borough | AE12: Cycle 5+ times a week
B13: Croydon | C13: 0.3321 | D13: Croydon | E13: 31.9795 | L13: Bexley | M13: 0.301308 | AD13: Croydon | AE13: 0.003321
B14: Ealing | C14: 3.0919 | D14: Ealing | E14: 30.3117 | L14: Ealing | M14: 0.303117 | AD14: Barnet | AE14: 0.008979
B15: Enfield | C15: 1.2272 | D15: Enfield | E15: 29.0372 | L15: Brent | M15: 0.305517 | AD15: Brent | AE15: 0.009579
B16: Greenwich | C16: 4.381 | D16: Greenwich | E16: 36.2538 | L16: Croydon | M16: 0.319795 | AD16: Redbridge | AE16: 0.011334
B17: Hackney | C17: 14.1636 | D17: Hackney | E17: 41.5885 | L17: Barnet | M17: 0.329488 | AD17: Enfield | AE17: 0.012272
B18: Hammersmith & Fulham | C18: 9.1495 | D18: Hammersmith & Fulham | E18: 43.1807 | L18: Harrow | M18: 0.338033 | AD18: Harrow | AE18: 0.013614
B19: Haringey | C19: 6.1756 | D19: Haringey | E19: 38.4878 | L19: Newham | M19: 0.339216 | AD19: City of London | AE19: 0.013947
B20: Harrow | C20: 1.3614 | D20: Harrow | E20: 33.8033 | L20: Redbridge | M20: 0.343084 | AD20: Barking & Dagenham | AE20: 0.015245
B21: Havering | C21: 2.1509 | D21: Havering | E21: 28.6891 | L21: Hillingdon | M21: 0.350754 | AD21: Bexley | AE21: 0.016402
B22: Hillingdon | C22: 2.605 | D22: Hillingdon | E22: 35.0754 | L22: Sutton | M22: 0.3512 | AD22: Sutton | AE22: 0.017475
B23: Hounslow | C23: 3.0288 | D23: Hounslow | E23: 28.1408 | L23: Greenwich | M23: 0.362538 | AD23: Bromley | AE23: 0.018969
B24: Islington | C24: 5.1615 | D24: Islington | E24: 40.1157 | L24: Lewisham | M24: 0.369268 | AD24: Havering | AE24: 0.021509
... B38: Westminster | C38: 5.8936 | D38: Westminster | E38: 42.2234 | L38: Lambeth | M38: 0.430814 | AD38: Westminster | AE38: 0.058936
B39: Greater London Average | C39: =AVERAGE(C6:C38) -> 4.1353 | D39: Greater London Average | E39: =AVERAGE(E6:E38) -> 36.982797 | L39: Hammersmith & Fulham | M39: 0.431807 | AD39: Haringey | AE39: 0.061756
B40: Simple AVERAGE | D40: Simple AVERAGE | L40: Waltham Forest | M40: 0.432405 | AD40: Waltham Forest | AE40: 0.062266
L41: City of London | M41: 0.547527 | AD41: Lambeth | AE41: 0.067759
B42: From Active People Survey 2017 | AD42: Tower Hamlets | AE42: 0.074693
B43: https://www.gov.uk/government/collections/walking-and-cycling-statistics | AD43: Southwark | AE43: 0.081017
B44: Released Aug 2018 | AD44: Hammersmith & Fulham | AE44: 0.091495
B45: From tables: CW0302 (cycling), CW0303 (walking) | AD45: Hackney | AE45: 0.141636
B46: Proportion of adults that cycle1, by frequency, purpose and local authority, England, 2016-20172
B47: Proportion of adults that walk1, by frequency, purpose and local authority, England, 2016-20172

Sheet 3. Casualties
N3: INPUT DATA 1. Casualties - TfL Road Safety | U3: INPUT DATA 2. Stages per day by mode and borough of origin
N4: Casualty Severity | O4: (Multiple Items) - Fatal & Serious
N5: Year | O5: (Multiple Items) - 2015, 2016 and 2017
C7: Total KSI 2015-2017 | N7: Count of AREFNO | O7: Column Labels | U7: Stages per day by mode and borough of origin, 3 year average 2014/15-2016/17
B8: Borough | C8: Pedestrians | D8: Cyclists | E8: Total Pedestrian & Cyclists KSIs (2015-17) | F8: Total Cycling & Walking Stages | G8: Average Annual Pedestrian and Cyclist Serious and Fatal Casualties/1,000 daily walking and cycling stages | I8: 1. OUTPUT TO SUMMARY | N8: Row Labels | O8: 1 Pedestrian | P8: Row Labels | Q8: 2 Pedal Cycle | V8: Cycle | X8: Walk | Y8: Total Cycling & Walking Stages | AB8: Total Cycling & Walking Stages
B9: Barking & Dagenham | C9: =VLOOKUP(B9, $N$9:$O$42,2,) -> 48 | D9: =VLOOKUP(B9,$P$9:$Q$42,2,) -> 19 | E9: =SUM(C9:D9) -> 67 | F9: =VLOOKUP(B9,$AA$9:$AB$42,2,) -> 338545 | G9: =(E9/3)/(F9/1000) -> 0.065968581 | I9: Barking & Dagenham | J9: 0.065968581 | N9: BARKING & DAGENHAM | O9: 48 | P9: BARKING & DAGENHAM | Q9: 19 | U9: Camden | V9: 28904 | W9: Camden | X9: 1136502 | Y9: =SUM(V9:X9) -> 1165406 | AA9: Camden | AB9: 1165406
B10: Barnet | C10: =VLOOKUP(B10, $N$9:$O$42,2,) -> 114 | D10: =VLOOKUP(B10,$P$9:$Q$42,2,) -> 26 | E10: =SUM(C10:D10) -> 140 | F10: =VLOOKUP(B10,$AA$9:$AB$42,2,) -> 989491 | G10: =(E10/3)/(F10/1000) -> 0.047162295 | I10: Barnet | J10: 0.047162295 | N10: BARNET | O10: 114 | P10: BARNET | Q10: 26 | U10: City of London | V10: 10616 | W10: City of London | X10: 581047 | Y10: =SUM(V10:X10) -> 591663 | AA10: City of London | AB10: 591663
B11: Bexley | C11: =VLOOKUP(B11, $N$9:$O$42,2,) -> 50 | D11: =VLOOKUP(B11,$P$9:$Q$42,2,) -> 11 | E11: =SUM(C11:D11) -> 61 | F11: =VLOOKUP(B11,$AA$9:$AB$42,2,) -> 430976 | G11: =(E11/3)/(F11/1000) -> 0.047179735 | I11: Bexley | J11: 0.047179735 | N11: BEXLEY | O11: 50 | P11: BEXLEY | Q11: 11 | U11: Hackney | V11: 29084 | W11: Hackney | X11: 670542 | Y11: =SUM(V11:X11) -> 699626 | AA11: Hackney | AB11: 699626
B12: Brent | C12: =VLOOKUP(B12, $N$9:$O$42,2,) -> 124 | D12: =VLOOKUP(B12,$P$9:$Q$42,2,) -> 33 | E12: =SUM(C12:D12) -> 157 | F12: =VLOOKUP(B12,$AA$9:$AB$42,2,) -> 730150 | G12: =(E12/3)/(F12/1000) -> 0.07167477 | I12: Brent | J12: 0.07167477 | N12: BRENT | O12: 124 | P12: BRENT | Q12: 33 | U12: Hammersmith & Fulham | V12: 23435 | W12: Hammersmith & Fulham | X12: 694499 | Y12: =SUM(V12:X12) -> 717934 | AA12: Hammersmith & Fulham | AB12: 717934
B13: Bromley | C13: =VLOOKUP(B13, $N$9:$O$42,2,) -> 62 | D13: =VLOOKUP(B13,$P$9:$Q$42,2,) -> 46 | E13: =SUM(C13:D13) -> 108 | F13: =VLOOKUP(B13,$AA$9:$AB$42,2,) -> 746834 | G13: =(E13/3)/(F13/1000) -> 0.048203483 | I13: Bromley | J13: 0.048203483 | N13: BROMLEY | O13: 62 | P13: BROMLEY | Q13: 46 | U13: Haringey | V13: 14966 | W13: Haringey | X13: 758514 | Y13: =SUM(V13:X13) -> 773480 | AA13: Haringey | AB13: 773480
B14: Camden | C14: =VLOOKUP(B14, $N$9:$O$42,2,) -> 129 | D14: =VLOOKUP(B14,$P$9:$Q$42,2,) -> 75 | E14: =SUM(C14:D14) -> 204 | F14: =VLOOKUP(B14,$AA$9:$AB$42,2,) -> 1165406 | G14: =(E14/3)/(F14/1000) -> 0.058348764 | I14: Camden | J14: 0.058348764 | N14: CAMDEN | O14: 129 | P14: CAMDEN | Q14: 75 | U14: Islington | V14: 27824 | W14: Islington | X14: 853332 | Y14: =SUM(V14:X14) -> 881156 | AA14: Islington | AB14: 881156
B15: City of London | C15: =VLOOKUP(B15, $N$9:$O$42,2,) -> 75 | D15: =VLOOKUP(B15,$P$9:$Q$42,2,) -> 40 | E15: =SUM(C15:D15) -> 115 | F15: =VLOOKUP(B15,$AA$9:$AB$42,2,) -> 591663 | G15: =(E15/3)/(F15/1000) -> 0.064789134 | I15: City of London | J15: 0.064789134 | N15: CITY OF LONDON | O15: 75 | P15: CITY OF LONDON | Q15: 40 | U15: Kensington & Chelsea | V15: 17674 | W15: Kensington & Chelsea | X15: 650043 | Y15: =SUM(V15:X15) -> 667717 | AA15: Kensington & Chelsea | AB15: 667717
B16: Croydon | C16: =VLOOKUP(B16, $N$9:$O$42,2,) -> 87 | D16: =VLOOKUP(B16,$P$9:$Q$42,2,) -> 29 | E16: =SUM(C16:D16) -> 116 | F16: =VLOOKUP(B16,$AA$9:$AB$42,2,) -> 910990 | G16: =(E16/3)/(F16/1000) -> 0.042444666 | I16: Croydon | J16: 0.042444666 | N16: CROYDON | O16: 87 | P16: CROYDON | Q16: 29 | U16: Lambeth | V16: 31493 | W16: Lambeth | X16: 1188779 | Y16: =SUM(V16:X16) -> 1220272 | AA16: Lambeth | AB16: 1220272
B17: Ealing | C17: =VLOOKUP(B17, $N$9:$O$42,2,) -> 115 | D17: =VLOOKUP(B17,$P$9:$Q$42,2,) -> 38 | E17: =SUM(C17:D17) -> 153 | F17: =VLOOKUP(B17,$AA$9:$AB$42,2,) -> 849152 | G17: =(E17/3)/(F17/1000) -> 0.060059919 | I17: Ealing | J17: 0.060059919 | N17: EALING | O17: 115 | P17: EALING | Q17: 38 | U17: Lewisham | V17: 15689 | W17: Lewisham | X17: 781816 | Y17: =SUM(V17:X17) -> 797505 | AA17: Lewisham | AB17: 797505
B18: Enfield | C18: =VLOOKUP(B18, $N$9:$O$42,2,) -> 97 | D18: =VLOOKUP(B18,$P$9:$Q$42,2,) -> 25 | E18: =SUM(C18:D18) -> 122 | F18: =VLOOKUP(B18,$AA$9:$AB$42,2,) -> 729458 | G18: =(E18/3)/(F18/1000) -> 0.055749154 | I18: Enfield | J18: 0.055749154 | N18: ENFIELD | O18: 97 | P18: ENFIELD | Q18: 25 | U18: Newham | V18: 13323 | W18: Newham | X18: 1036619 | Y18: =SUM(V18:X18) -> 1049942 | AA18: Newham | AB18: 1049942
B19: Greenwich | C19: =VLOOKUP(B19, $N$9:$O$42,2,) -> 56 | D19: =VLOOKUP(B19,$P$9:$Q$42,2,) -> 29 | E19: =SUM(C19:D19) -> 85 | F19: =VLOOKUP(B19,$AA$9:$AB$42,2,) -> 771951 | G19: =(E19/3)/(F19/1000) -> 0.036703539 | I19: Greenwich | J19: 0.036703539 | N19: GREENWICH | O19: 56 | P19: GREENWICH | Q19: 29 | U19: Southwark | V19: 24157 | W19: Southwark | X19: 1159463 | Y19: =SUM(V19:X19) -> 1183620 | AA19: Southwark | AB19: 1183620
B20: Hackney | C20: =VLOOKUP(B20, $N$9:$O$42,2,) -> 125 | D20: =VLOOKUP(B20,$P$9:$Q$42,2,) -> 90 | E20: =SUM(C20:D20) -> 215 | F20: =VLOOKUP(B20,$AA$9:$AB$42,2,) -> 699626 | G20: =(E20/3)/(F20/1000) -> 0.10243568 | I20: Hackney | J20: 0.10243568 | N20: HACKNEY | O20: 125 | P20: HACKNEY | Q20: 90 | U20: Tower Hamlets | V20: 25677 | W20: Tower Hamlets | X20: 891041 | Y20: =SUM(V20:X20) -> 916718 | AA20: Tower Hamlets | AB20: 916718
... B41: Westminster | C41: =VLOOKUP(B41, $N$9:$O$42,2,) -> 234 | D41: =VLOOKUP(B41,$P$9:$Q$42,2,) -> 137 | E41: =SUM(C41:D41) -> 371 | F41: =VLOOKUP(B41,$AA$9:$AB$42,2,) -> 1932322 | G41: =(E41/3)/(F41/1000) -> 0.063998995 | I41: Westminster | J41: 0.063998995 | N41: WESTMINSTER | O41: 234 | P41: WESTMINSTER | Q41: 137 | U41: Waltham Forest | V41: 8102 | W41: Waltham Forest | X41: 637772 | Y41: =SUM(V41:X41) -> 645874 | AA41: Waltham Forest | AB41: 645874
B42: Greater London Total | C42: 3017 | D42: 1526 | E42: =SUM(C42:D42) -> 4543 | F42: =VLOOKUP(B42,$AA$9:$AB$42,2,) -> 25297525 | G42: =(E42/3)/(F42/1000) -> 0.059860928 | I42: Greater London Average | J42: 0.059860928 | N42: Greater London Total | O42: 3017 | P42: Greater London Total | Q42: 1526 | U42: Greater London Total | V42: =SUM(V9:V41) -> 524228 | W42: Greater London Total | X42: =SUM(X9:X41) -> 24773297 | Y42: =SUM(Y9:Y41) -> 25297525 | AA42: Greater London Total | AB42: 25297525
B48: 2. OUTPUT TO CHART
C50: Average Annual Pedestrian and Cyclist Serious and Fatal Casualties/1,000 daily walking and cycling stages
B51: Greenwich | C51: 0.036703539
B52: Merton | C52: 0.042027571
B53: Croydon | C53: 0.042444666
B54: Barnet | C54: 0.047162295
B55: Bexley | C55: 0.047179735
B56: Kingston upon Thames | C56: 0.048106339
B57: Bromley | C57: 0.048203483
B58: Sutton | C58: 0.049768618
B59: Newham | C59: 0.050796457
B60: Hillingdon | C60: 0.051302142
B61: Lewisham | C61: 0.052664247
B62: Enfield | C62: 0.055749154
... B83: Hackney | C83: 0.10243568
D85: Journey stages
D86: Journey stages are sub-divisions of an individual trip reflecting the successive use of different transport modes during the course of the trip. For example, a trip from home to work may involve a walk from home to a station, a train trip into town, perhaps followed by a short bus journey to the final destination (three journey stages in total). A journey stage is therefore a component of a trip that uses a single mode of transport from either the trip origin or intermediate interchange to either another interchange or the trip destination. Journey stages divide up travel into components that correspond to the way services are provided by transport operators. They therefore provide a natural way of describing the contribution of each mode of transport to total travel and thereby enable the measurement of mode shares for each of the different forms of transport.
D88: Source: Tfl Transport for London Travel in London Report 5
D89: 1. A journey stage is a part of a trip made by a single mode of transport.
D90: 2. Each rail interchange between train operating companies is a new journey stage.
D91: 3. Bus journey stages are counted by starting a new stage each time a new bus is boarded.
...

Sheet 4. CarsPerHousehold
B2: INPUT 1. Number of licensed vehicles at year end - 2018 | N2: INPUT 2. Number of Households
S3: 1. OUTPUT TO SUMMARY | W3: 2. OUTPUT TO CHART
B4: ONS CHD LA Code | C4: ONS SNAC LA Code | D4: Local Authority | E4: Cars | F4: Motor cycles | G4: Light goods | H4: Heavy goods | I4: Buses and coaches | J4: Other vehicles | K4: Total | S4: OUTPUT | T4: 2018 DATA | W4: FOR CHARTS | X4: 2018 DATA
D5: BOROUGH | N5: Borough | O5: Households (2017) | T5: Cars per Household | X5: Cars per Household
B6: E09000002 | C6: 00AB | D6: Barking & Dagenham | E6: 63.975 | F6: 1.835 | G6: 6.113 | H6: 0.877 | I6: 0.177 | J6: 0.9 | K6: 73.877 | N6: Barking & Dagenham | O6: 78188.377 | S6: Barking & Dagenham | T6: =(E6*1000)/O6 -> 0.81821624 | W6: Islington | X6: 0.345351
B7: E09000003 | C7: 00AC | D7: Barnet | E7: 142.287 | F7: 4.412 | G7: 8.832 | H7: 0.561 | I7: 0.495 | J7: 1.49 | K7: 158.077 | N7: Barnet | O7: 151422.96 | S7: Barnet | T7: =(E7*1000)/O7 -> 0.93966593 | W7: Tower Hamlets | X7: 0.35656359
B8: E09000004 | C8: 00AD | D8: Bexley | E8: 105.611 | F8: 4.101 | G8: 9.876 | H8: 1.408 | I8: 1.109 | J8: 1.518 | K8: 123.623 | N8: Bexley | O8: 97735.841 | S8: Bexley | T8: =(E8*1000)/O8 -> 1.080576 | W8: Hackney | X8: 0.35992112
B9: E09000005 | C9: 00AE | D9: Brent | E9: 92.148 | F9: 4.687 | G9: 8.831 | H9: 1.257 | I9: 2.16 | J9: 0.869 | K9: 109.952 | N9: Brent | O9: 121048.27 | S9: Brent | T9: =(E9*1000)/O9 -> 0.76125001 | W9: Camden | X9: 0.39597178
B10: E09000006 | C10: 00AF | D10: Bromley | E10: 148.866 | F10: 5.698 | G10: 11.945 | H10: 0.677 | I10: 0.348 | J10: 1.187 | K10: 168.721 | N10: Bromley | O10: 140602.29 | S10: Bromley | T10: =(E10*1000)/O10 -> 1.0587736 | W10: Westminster | X10: 0.4183471
B11: E09000007 | C11: 00AG | D11: Camden | E11: 42.628 | F11: 2.451 | G11: 3.777 | H11: 0.335 | I11: 0.117 | J11: 0.574 | K11: 49.882 | N11: Camden | O11: 107654.14 | S11: Camden | T11: =(E11*1000)/O11 -> 0.39597178 | W11: Southwark | X11: 0.42747212
B12: E09000001 | C12: 00AA | D12: City of London | E12: 2.424 | F12: 0.127 | G12: 0.388 | H12: 0.047 | I12: 0.024 | J12: 0.056 | K12: 3.066 | N12: City of London | O12: 5325.8177 | S12: City of London | T12: =(E12*1000)/O12 -> 0.45514138 | W12: Lambeth | X12: 0.4416701
B13: E09000008 | C13: 00AH | D13: Croydon | E13: 141.252 | F13: 5.275 | G13: 11.841 | H13: 0.517 | I13: 0.303 | J13: 0.822 | K13: 160.01 | N13: Croydon | O13: 159010.07 | S13: Croydon | T13: =(E13*1000)/O13 -> 0.88832112 | W13: City of London | X13: 0.45514138
B14: E09000009 | C14: 00AJ | D14: Ealing | E14: 116.853 | F14: 5.163 | G14: 10.73 | H14: 1.189 | I14: 0.7 | J14: 0.645 | K14: 135.28 | N14: Ealing | O14: 132662.97 | S14: Ealing | T14: =(E14*1000)/O14 -> 0.88082607 | W14: Kensington & Chelsea | X14: 0.51582376
B15: E09000010 | C15: 00AK | D15: Enfield | E15: 119.77 | F15: 3.092 | G15: 11.211 | H15: 1.977 | I15: 0.25 | J15: 4.56 | K15: 140.86 | N15: Enfield | O15: 130327.74 | S15: Enfield | T15: =(E15*1000)/O15 -> 0.91899083 | W15: Hammersmith & Fulham | X15: 0.51982964
B16: E09000011 | C16: 00AL | D16: Greenwich | E16: 78.589 | F16: 3.203 | G16: 5.83 | H16: 0.604 | I16: 0.242 | J16: 0.894 | K16: 89.362 | N16: Greenwich | O16: 113964.12 | S16: Greenwich | T16: =(E16*1000)/O16 -> 0.68959423 | W16: Haringey | X16: 0.53450537
B17: E09000012 | C17: 00AM | D17: Hackney | E17: 41.541 | F17: 2.816 | G17: 3.456 | H17: 0.204 | I17: 0.409 | J17: 0.483 | K17: 48.909 | N17: Hackney | O17: 115416.95 | S17: Hackney | T17: =(E17*1000)/O17 -> 0.35992112 | W17: Wandsworth | X17: 0.57482194
... B38: E09000033 | C38: 00BK | D38: Westminster | E38: 49.773 | F38: 2.593 | G38: 3.31 | H38: 0.123 | I38: 0.574 | J38: 1.405 | K38: 57.778 | N38: Westminster | O38: 118975.37 | S38: Westminster | T38: =(E38*1000)/O38 -> 0.4183471 | W38: Hillingdon | X38: 1.2697302
E39: =SUM(E6:E38) -> 2659.733 | O39: =SUM(O6:O38) -> 3601962.6 | S39: Greater London Average | T39: =(E39*1000)/O39 -> 0.73841217
S40: Average is Total Cars/Total HHs
B42: Sources: https://data.london.gov.uk/dataset/licensed-vehicles-type-0 for vehicles in 2018
B43: https://data.london.gov.uk/download/licensed-vehicles-type-0/0b604f40-d5c2-4898-adc7-014b46007b9e/vehicles-licensed-type-borough.xls
B45: Population projection 2017: https://data.london.gov.uk/dataset/london-borough-profiles

Sheet 5.Low Traffic Neighbourhoods
O3: INPUT DATA 2. Road Length
K4: INPUT DATA 1. No. Modal Filters | O4: Department for Transport statistics - Table RDL0202a | T4: 2. OUTPUT TO CHART
F5: 1. OUTPUT TO SUMMARY | O5: Total road length (kilometres) by road type and local authority in Great Britain, 2017
A6: Borough | B6: Number of Modal Filters (Source: CID. Data collected 2017-2018) | C6: Total road length (kilometres) by road type and local authority in Great Britain, 2017 | D6: Number of modal filters/km of road length | G6: Number of modal filters/km of road length | K6: Borough | L6: Number of Modal Filters (Source: CID. Data collected 2017-2018) | O6: Local authority | P6: Total road length | U6: Number of Modal Filters
A7: Bromley | B7: =VLOOKUP(A7,$K$7:$L$39,2,) -> 13 | C7: =VLOOKUP(A7,$O$7:$P$39,2,) -> 906.18 | D7: =B7/C7 -> 0.014345936 | F7: Bromley | G7: 0.014345936 | K7: Barking and Dagenham | L7: 10 | O7: Camden | P7: 282.53 | T7: K&C | U7: 2
A8: Havering | B8: =VLOOKUP(A8,$K$7:$L$39,2,) -> 16 | C8: =VLOOKUP(A8,$O$7:$P$39,2,) -> 660.69 | D8: =B8/C8 -> 0.024217106 | F8: Havering | G8: 0.024217106 | K8: Barnet | L8: 20 | O8: City of London | P8: 55.23 | T8: Bexley | U8: 4
A9: Barnet | B9: =VLOOKUP(A9,$K$7:$L$39,2,) -> 20 | C9: =VLOOKUP(A9,$O$7:$P$39,2,) -> 762.82 | D9: =B9/C9 -> 0.026218505 | F9: Barnet | G9: 0.026218505 | K9: Bexley | L9: 4 | O9: Hackney | P9: 277.1 | T9: Redbridge | U9: 7
A10: Hillingdon | B10: =VLOOKUP(A10,$K$7:$L$39,2,) -> 37 | C10: =VLOOKUP(A10,$O$7:$P$39,2,) -> 757.64 | D10: =B10/C10 -> 0.048835859 | F10: Hillingdon | G10: 0.048835859 | K10: Brent | L10: 17 | O10: Hammersmith and Fulham | P10: 220.81 | T10: Barking and Dagenham | U10: 10
A11: Bexley | B11: =VLOOKUP(A11,$K$7:$L$39,2,) -> 4 | C11: =VLOOKUP(A11,$O$7:$P$39,2,) -> 560.05 | D11: =B11/C11 -> 0.0071422194 | F11: Bexley | G11: 0.0071422194 | K11: Bromley | L11: 13 | O11: Haringey | P11: 356.66 | T11: Harrow | U11: 12
A12: Brent | B12: =VLOOKUP(A12,$K$7:$L$39,2,) -> 17 | C12: =VLOOKUP(A12,$O$7:$P$39,2,) -> 487.37 | D12: =B12/C12 -> 0.034881096 | F12: Brent | G12: 0.034881096 | K12: Camden | L12: 33 | O12: Islington | P12: 237.97 | T12: Bromley | U12: 13
A13: Croydon | B13: =VLOOKUP(A13,$K$7:$L$39,2,) -> 26 | C13: =VLOOKUP(A13,$O$7:$P$39,2,) -> 778.06 | D13: =B13/C13 -> 0.033416446 | F13: Croydon | G13: 0.033416446 | K13: City of London | L13: 18 | O13: Kensington and Chelsea | P13: 204.87 | T13: Havering | U13: 16
A14: Redbridge | B14: =VLOOKUP(A14,$K$7:$L$39,2,) -> 7 | C14: =VLOOKUP(A14,$O$7:$P$39,2,) -> 533.02 | D14: =B14/C14 -> 0.013132715 | F14: Redbridge | G14: 0.013132715 | K14: Croydon | L14: 26 | O14: Lambeth | P14: 383.09 | T14: Enfield | U14: 16
A15: Harrow | B15: =VLOOKUP(A15,$K$7:$L$39,2,) -> 12 | C15: =VLOOKUP(A15,$O$7:$P$39,2,) -> 474.12 | D15: =B15/C15 -> 0.025310048 | F15: Harrow | G15: 0.025310048 | K15: Ealing | L15: 45 | O15: Lewisham | P15: 456.96 | T15: Brent | U15: 17
A16: Enfield | B16: =VLOOKUP(A16,$K$7:$L$39,2,) -> 16 | C16: =VLOOKUP(A16,$O$7:$P$39,2,) -> 640.51 | D16: =B16/C16 -> 0.024980094 | F16: Enfield | G16: 0.024980094 | K16: Enfield | L16: 16 | O16: Newham | P16: 426.81 | T16: Newham | U16: 17
A17: Barking and Dagenham | B17: =VLOOKUP(A17,$K$7:$L$39,2,) -> 10 | C17: =VLOOKUP(A17,$O$7:$P$39,2,) -> 340.33 | D17: =B17/C17 -> 0.029383246 | F17: Barking & Dagenham | G17: 0.029383246 | K17: Greenwich | L17: 29 | O17: Southwark | P17: 393.35 | T17: City of London | U17: 18
A18: Hounslow | B18: =VLOOKUP(A18,$K$7:$L$39,2,) -> 29 | C18: =VLOOKUP(A18,$O$7:$P$39,2,) -> 499.33 | D18: =B18/C18 -> 0.058077824 | F18: Hounslow | G18: 0.058077824 | K18: Hackney | L18: 84 | O18: Tower Hamlets | P18: 285.13 | T18: Barnet | U18: 20
... A39: City of London | B39: =VLOOKUP(A39,$K$7:$L$39,2,) -> 18 | C39: =VLOOKUP(A39,$O$7:$P$39,2,) -> 55.23 | D39: =B39/C39 -> 0.32590983 | F39: City of London | G39: 0.32590983 | K39: Westminster | L39: 28 | O39: Waltham Forest | P39: 425.58 | T39: Hackney | U39: 84
A40: TOTAL LONDON | B40: =SUM(B7:B39) -> 964 | C40: =SUM(C7:C39) -> 14842.02 | D40: =B40/C40 -> 0.064950728 | F40: Greater London Average | G40: 0.064950728
F41: Average Adjusted for road length
A42: Filtered Roads Data - TfL Number of Modal Filters (Source: CID. Data collected 2017-2018)
A43: Note that the data was collected between autumn 2017 and summer 2018, so any modal filters installed since then won’t be reflected in this version of the data.
A44: Road Length
A45: https://www.gov.uk/government/statistical-data-sets/road-length-statistics-rdl
A46: Worksheet - RDL0202a_(2017)

Sheet 6. 20mph
B2: INPUT | I2: 1. OUTPUT TO SUMMARY | N2: 2. OUTPUT TO CHART
B3: Data from TfL | D3: This is to May 2019 | I3: OUTPUT | J3: %20mph Boro | O3: Of roads with speed limits, % of borough-managed roads with 20mph limits
B4: Borough | C4: %20mph TLRN | D4: %20mph Boro | E4: % 20mph All Roads** | I4: Barking & Dagenham | J4: 27.965998 | N4: Kensington & Chelsea | O4: 0.94252768
B5: Barking and Dagenham | C5: 0 | D5: 27.965998 | E5: 26.908775 | I5: Barnet | J5: 4.214067 | N5: Barnet | O5: 4.214067
B6: Barnet | C6: 0 | D6: 4.214067 | E6: 3.9545127 | I6: Bexley | J6: 9.1767217 | N6: Bromley | O6: 4.9022601
B7: Bexley | C7: 0 | D7: 9.1767217 | E7: 8.904339 | I7: Brent | J7: 43.673058 | N7: Richmond upon Thames | O7: 5.9790542
B8: Brent | C8: 0 | D8: 43.673058 | E8: 42.722557 | I8: Bromley | J8: 4.9022601 | N8: Hillingdon | O8: 7.4376401
B9: Bromley | C9: 0 | D9: 4.9022601 | E9: 4.7555848 | I9: Camden | J9: 93.061427 | N9: Havering | O9: 9.0809015
B10: Camden | C10: 17.447784 | D10: 93.061427 | E10: 89.41934 | I10: City of London | J10: 90.630057 | N10: Bexley | O10: 9.1767217
B11: City of London | C11: 51.054614 | D11: 90.630057 | E11: 85.660663 | I11: Croydon | J11: 77.450921 | N11: Westminster | O11: 10.733419
B12: Croydon | C12: 0.51002807 | D12: 77.450921 | E12: 74.581695 | I12: Ealing | J12: 76.851059 | N12: Redbridge | O12: 15.311222
B13: Ealing | C13: 0 | D13: 76.851059 | E13: 73.420232 | I13: Enfield | J13: 20.993528 | N13: Sutton | O13: 20.611017
B14: Enfield | C14: 0 | D14: 20.993528 | E14: 20.184598 | I14: Greenwich | J14: 59.392568 | N14: Enfield | O14: 20.993528
B15: Greenwich | C15: 0.2131992 | D15: 59.392568 | E15: 54.818796 | I15: Hackney | J15: 95.733542 | N15: Harrow | O15: 23.345868
B16: Hackney | C16: 29.964013 | D16: 95.733542 | E16: 90.792886 | I16: Hammersmith & Fulham | J16: 81.026952 | N16: Barking & Dagenham | O16: 27.965998
... B18: Haringey | C18: 5.5587586 | D18: 90.115458 | E18: 87.254578 | I18: Harrow | J18: 23.345868 | N18: Kingston Upon Thames | O18: 43.410447
B19: Harrow | D19: 23.345868 | E19: 23.345868 | I19: Havering | J19: 9.0809015 | N19: Hounslow | O19: 43.606479
B20: Havering | C20: 0 | D20: 9.0809015 | E20: 8.6076852 | I20: Hillingdon | J20: 7.4376401 | N20: Brent | O20: 43.673058
B21: Hillingdon | C21: 0 | D21: 7.4376401 | E21: 7.1635882 | I21: Hounslow | J21: 43.606479 | N21: Merton | O21: 44.835735
B22: Hounslow | C22: 0.054505184 | D22: 43.606479 | E22: 39.509515 | I22: Islington | J22: 96.869679 | N22: Greenwich | O22: 59.392568
B23: Islington | C23: 37.626508 | D23: 96.869679 | E23: 93.05746 | I23: Kensington & Chelsea | J23: 0.94252768 | N23: Waltham Forest | O23: 70.128894
B24: Kensington and Chelsea | C24: 3.0113882 | D24: 0.94252768 | E24: 1.1229372 | I24: Kingston Upon Thames | J24: 43.410447 | N24: Ealing | O24: 76.851059
B25: Kingston Upon Thames | C25: 0 | D25: 43.410447 | E25: 40.362554 | I25: Lambeth | J25: 89.508137 | N25: Croydon | O25: 77.450921
B26: Lambeth | C26: 16.765488 | D26: 89.508137 | E26: 82.757043 | I26: Lewisham | J26: 93.218866 | N26: Wandsworth | O26: 79.859711
B27: Lewisham | C27: 6.0918717 | D27: 93.218866 | E27: 88.650613 | I27: Merton | J27: 44.835735 | N27: Hammersmith & Fulham | O27: 81.026952
B28: Merton | C28: 0 | D28: 44.835735 | E28: 43.217404 | I28: Newham | J28: 40.769035 | N28: Lambeth | O28: 89.508137
B29: Newham | C29: 0 | D29: 40.769035 | E29: 38.605751 | I29: Redbridge | J29: 15.311222 | N29: Haringey | O29: 90.115458
B30: Redbridge | C30: 0 | D30: 15.311222 | E30: 14.41542 | I30: Richmond upon Thames | J30: 5.9790542 | N30: City of London | O30: 90.630057
B31: Richmond upon Thames | C31: 0 | D31: 5.9790542 | E31: 5.7600327 | I31: Southwark | J31: 95.556298 | N31: Tower Hamlets | O31: 92.038662
... B36: Wandsworth | C36: 0.013178203 | D36: 79.859711 | E36: 72.542426 | I36: Westminster | J36: 10.733419 | N36: Islington | O36: 96.869679
B37: Westminster | C37: 1.057346 | D37: 10.733419 | E37: 9.9519572 | I37: Greater London Average | J37: 42.847855
B38: TOTAL | C38: 10.186132 | D38: 42.847855 | E38: 40.881247 | I38: Of roads with speed limits, average by length of roads
B41: ** ROADS WITH SPEED LIMITS

Sheet 7. Controlled Parking
B3: INPUT | L3: 1. OUTPUT TO SUMMARY | P3: 2. OUTPUT TO CHART
B4: Authority Estimated % CPZ Coverage | L4: Authority Estimated % CPZ Coverage | Q4: % CPZ Coverage
B5: Barking & Dagenham | C5: 21 | L5: Barking & Dagenham | M5: =C5/100 -> 0.21 | P5: Bromley | Q5: 0.09
B6: Barnet | C6: 28 | L6: Barnet | M6: =C6/100 -> 0.28 | P6: Enfield | Q6: 0.09
B7: Bexley | C7: 19 | L7: Bexley | M7: =C7/100 -> 0.19 | P7: Sutton | Q7: 0.09
B8: Brent | C8: 62 | L8: Brent | M8: =C8/100 -> 0.62 | P8: Redbridge | Q8: 0.12
B9: Bromley | C9: 9 | L9: Bromley | M9: =C9/100 -> 0.09 | P9: Hillingdon | Q9: 0.14
B10: Camden | C10: 100 | L10: Camden | M10: =C10/100 -> 1 | P10: Havering | Q10: 0.15
B11: City of London | C11: 100 | L11: City of London | M11: =C11/100 -> 1 | P11: Bexley | Q11: 0.19
B12: Croydon | C12: 19 | L12: Croydon | M12: =C12/100 -> 0.19 | P12: Croydon | Q12: 0.19
